<?xml version="1.0" encoding="UTF-8"?><wcs:CoverageDescriptions xmlns:wcs="http://www.opengis.net/wcs/2.0" xmlns:ows="http://www.opengis.net/ows/2.0" xmlns:gml="http://www.opengis.net/gml/3.2" xmlns:gmlcov="http://www.opengis.net/gmlcov/1.0" xmlns:xlink="http://www.w3.org/1999/xlink" xmlns:xsi="http://www.w3.org/2001/XMLSchema-instance" xmlns:swe="http://www.opengis.net/swe/2.0" xmlns:wcsgs="http://www.geoserver.org/wcsgs/2.0" xsi:schemaLocation=" http://www.opengis.net/wcs/2.0 http://schemas.opengis.net/wcs/2.0/wcsDescribeCoverage.xsd http://www.geoserver.org/wcsgs/2.0 http://sgx.geodatenzentrum.de/geoserver/schemas/wcs/2.0/wcsgs.xsd">
  <wcs:CoverageDescription gml:id="dgm200_inspire__EL.GridCoverage">
    <gml:description>Generated from ImageMosaic</gml:description>
    <gml:name>Grid Coverage</gml:name>
    <gml:boundedBy>
      <gml:Envelope srsName="http://www.opengis.net/def/crs/EPSG/0/25832" axisLabels="E N" uomLabels="m m" srsDimension="2">
        <gml:lowerCorner>279300.0 5235700.0</gml:lowerCorner>
        <gml:upperCorner>921300.0 6101900.0</gml:upperCorner>
      </gml:Envelope>
    </gml:boundedBy>
    <wcs:CoverageId>dgm200_inspire__EL.GridCoverage</wcs:CoverageId>
    <gml:coverageFunction>
      <gml:GridFunction>
        <gml:sequenceRule axisOrder="+1 +2">Linear</gml:sequenceRule>
        <gml:startPoint>0 0</gml:startPoint>
      </gml:GridFunction>
    </gml:coverageFunction>
    <gmlcov:metadata>
      <gmlcov:Extension>
        <ows:Keywords>
          <ows:Keyword>grid</ows:Keyword>
          <ows:Keyword>coverage</ows:Keyword>
        </ows:Keywords>
        <ows:Metadata xlink:type="simple" xlink:href="https://registry.gdi-de.org/id/de.bund.bkg.csw/DEBKG00M00000113"/>
      </gmlcov:Extension>
    </gmlcov:metadata>
    <gml:domainSet>
      <gml:RectifiedGrid gml:id="grid00__dgm200_inspire__EL.GridCoverage" dimension="2">
        <gml:limits>
          <gml:GridEnvelope>
            <gml:low>0 0</gml:low>
            <gml:high>3209 4330</gml:high>
          </gml:GridEnvelope>
        </gml:limits>
        <gml:axisLabels>i j</gml:axisLabels>
        <gml:origin>
          <gml:Point gml:id="p00_dgm200_inspire__EL.GridCoverage" srsName="http://www.opengis.net/def/crs/EPSG/0/25832">
            <gml:pos>279300.0 6101900.0</gml:pos>
          </gml:Point>
        </gml:origin>
        <gml:offsetVector srsName="http://www.opengis.net/def/crs/EPSG/0/25832">200.0 0.0</gml:offsetVector>
        <gml:offsetVector srsName="http://www.opengis.net/def/crs/EPSG/0/25832">0.0 -200.0</gml:offsetVector>
      </gml:RectifiedGrid>
    </gml:domainSet>
    <gmlcov:rangeType>
      <swe:DataRecord xmlns:swe="http://www.opengis.net/swe/2.0">
        <swe:field name="GRAY_INDEX">
          <swe:Quantity>
            <swe:description>GRAY_INDEX</swe:description>
            <swe:nilValues>
              <swe:NilValues>
                <swe:nilValue reason="http://www.opengis.net/def/nil/OGC/0/unknown">-3.4028230607370965E38</swe:nilValue>
              </swe:NilValues>
            </swe:nilValues>
            <swe:uom code="W.m-2.Sr-1"/>
            <swe:constraint>
              <swe:AllowedValues>
                <swe:interval>-3.4028235E38 3.4028235E38</swe:interval>
              </swe:AllowedValues>
            </swe:constraint>
          </swe:Quantity>
        </swe:field>
      </swe:DataRecord>
    </gmlcov:rangeType>
    <wcs:ServiceParameters>
      <wcs:CoverageSubtype>RectifiedGridCoverage</wcs:CoverageSubtype>
      <wcs:nativeFormat>image/tiff</wcs:nativeFormat>
    </wcs:ServiceParameters>
  </wcs:CoverageDescription>
</wcs:CoverageDescriptions>
